BEGIN:VCALENDAR
VERSION:2.0
PRODID:-//OC Spiritual Tools - ECPv6.15.20//NONSGML v1.0//EN
CALSCALE:GREGORIAN
METHOD:PUBLISH
X-WR-CALNAME:OC Spiritual Tools
X-ORIGINAL-URL:https://ocspiritualtools.com
X-WR-CALDESC:Events for OC Spiritual Tools
REFRESH-INTERVAL;VALUE=DURATION:PT1H
X-Robots-Tag:noindex
X-PUBLISHED-TTL:PT1H
BEGIN:VTIMEZONE
TZID:America/Los_Angeles
BEGIN:DAYLIGHT
TZOFFSETFROM:-0800
TZOFFSETTO:-0700
TZNAME:PDT
DTSTART:20150308T100000
END:DAYLIGHT
BEGIN:STANDARD
TZOFFSETFROM:-0700
TZOFFSETTO:-0800
TZNAME:PST
DTSTART:20151101T090000
END:STANDARD
BEGIN:DAYLIGHT
TZOFFSETFROM:-0800
TZOFFSETTO:-0700
TZNAME:PDT
DTSTART:20160313T100000
END:DAYLIGHT
BEGIN:STANDARD
TZOFFSETFROM:-0700
TZOFFSETTO:-0800
TZNAME:PST
DTSTART:20161106T090000
END:STANDARD
BEGIN:DAYLIGHT
TZOFFSETFROM:-0800
TZOFFSETTO:-0700
TZNAME:PDT
DTSTART:20170312T100000
END:DAYLIGHT
BEGIN:STANDARD
TZOFFSETFROM:-0700
TZOFFSETTO:-0800
TZNAME:PST
DTSTART:20171105T090000
END:STANDARD
END:VTIMEZONE
BEGIN:VEVENT
DTSTART;TZID=America/Los_Angeles:20160817T120000
DTEND;TZID=America/Los_Angeles:20160817T140000
DTSTAMP:20260425T110414
CREATED:20160810T004344Z
LAST-MODIFIED:20160812T100613Z
UID:2094-1471435200-1471442400@ocspiritualtools.com
SUMMARY:Spiritual Tools for Personal Freedom Aug 17
DESCRIPTION:Classes start Wednesday\, July 27th\, 2016 |\n$25 per class |\nFrom 7pm – 9pm |\nPlease call to register |\n\nHeld at the Mint Salon\n10971 Garden Grove Blvd.\nGarden Grove\, CA\n(Across the street from Costco)\nIn this four-week session\,\n\n\nLearn spiritual to help you release unwanted spiritual energy.\n\n\nProtect yourself energetically.\n\n\nHave an awareness of the energy around you.\n\n\nLearn if someone is telling the truth.\n\n\nLearn how to release pain and replace it with joy.\n\n\nMove forward on your spiritual path.\n\n\nCreate what you really want in this lifetime.\n\n\nFeel free to invite your friends.\nPatty Weick at 714-951-2621 or email patty@ocspiritualtools.com.\nAny questions you may have\, please contact me.
URL:https://ocspiritualtools.com/event/spiritual-tools-personal-freedom-aug-17/
LOCATION:Mint Salon\, 10971 Garden Grove Blvd\, Garden Grove\, CA\, 92843\, United States
CATEGORIES:Where You Can Find Me
ATTACH;FMTTYPE=image/jpeg:https://ocspiritualtools.com/wp-content/uploads/2016/08/Tools-600x800.jpg
END:VEVENT
BEGIN:VEVENT
DTSTART;TZID=America/Los_Angeles:20160810T120000
DTEND;TZID=America/Los_Angeles:20160810T140000
DTSTAMP:20260425T110414
CREATED:20160809T092357Z
LAST-MODIFIED:20160811T053904Z
UID:2092-1470830400-1470837600@ocspiritualtools.com
SUMMARY:Spiritual Tools for Personal Freedom Aug 10
DESCRIPTION:Classes start Wednesday\, July 27th\, 2016;\n Please call to register;\n$25 per class;\nFrom 7pm – 9pm;\nAt the Mint Salon in \nGarden Grove\nFOR DETAILS\, SEE “SPIRITUAL TOOLS FOR PERSONAL FREEDOM” ON THE DROPDOWN MENU UNDER “CLASSES”.
URL:https://ocspiritualtools.com/event/spiritual-tools-personal-freedom-aug-10/
LOCATION:Mint Salon\, 10971 Garden Grove Blvd\, Garden Grove\, CA\, 92843\, United States
CATEGORIES:Where You Can Find Me
ATTACH;FMTTYPE=image/jpeg:https://ocspiritualtools.com/wp-content/uploads/2016/08/Tools-600x800.jpg
END:VEVENT
END:VCALENDAR